BEGIN:VCALENDAR
VERSION:2.0
PRODID:-//www.casa4lancaster.org//NONSGML kigkonsult.se iCalcreator 2.30.10
 //
CALSCALE:GREGORIAN
METHOD:PUBLISH
UID:4f6994d9-33fa-43d2-b469-4aa824fc9a63
X-WR-CALDESC:New CASA Volunteer Training - in-person sessions. Will be offe
 red over Zoom unless COVID conditions allow us to meet in-person
X-WR-RELCALID:ca5304f42c2748239d0d37c6b4b0b7bf
X-WR-TIMEZONE:America/Chicago
BEGIN:VTIMEZONE
TZID:America/Chicago
BEGIN:STANDARD
TZNAME:CST
DTSTART:20201101T020000
TZOFFSETFROM:-0500
TZOFFSETTO:-0600
RDATE:20211107T020000
END:STANDARD
BEGIN:DAYLIGHT
TZNAME:CDT
DTSTART:20210314T020000
TZOFFSETFROM:-0600
TZOFFSETTO:-0500
RDATE:20220313T020000
END:DAYLIGHT
END:VTIMEZONE
BEGIN:VEVENT
UID:6c5911be-9a39-4df7-912a-ff749ad0142b
DTSTAMP:20260426T033417Z
DESCRIPTION:New CASA Volunteer Training - in-person sessions. Will be offer
 ed over Zoom unless COVID conditions allow us to meet in-person
DTSTART;TZID=America/Chicago:20210330T180000
DTEND;TZID=America/Chicago:20210330T210000
LOCATION:By Zoom or at the CASA Office if conditions allow
SUMMARY:CASA New Volunteer Training
END:VEVENT
END:VCALENDAR
