BEGIN:VCALENDAR
VERSION:2.0
PRODID:-//www.casa4lancaster.org//NONSGML kigkonsult.se iCalcreator 2.30.10
 //
CALSCALE:GREGORIAN
METHOD:PUBLISH
UID:fed28bf3-c581-4ab1-a625-3155bb1e00c8
X-WR-CALDESC:New CASA Volunteer Training - in-person sessions. Will be offe
 red over Zoom unless COVID conditions allow us to meet in-person
X-WR-RELCALID:f80d1e4028a173694049b4d74b3f4635
X-WR-TIMEZONE:America/Chicago
BEGIN:VTIMEZONE
TZID:America/Chicago
BEGIN:STANDARD
TZNAME:CST
DTSTART:20201101T020000
TZOFFSETFROM:-0500
TZOFFSETTO:-0600
RDATE:20211107T020000
END:STANDARD
BEGIN:DAYLIGHT
TZNAME:CDT
DTSTART:20210314T020000
TZOFFSETFROM:-0600
TZOFFSETTO:-0500
RDATE:20220313T020000
END:DAYLIGHT
END:VTIMEZONE
BEGIN:VEVENT
UID:0e9733a2-7f1d-4738-9d9e-c9a4b8544414
DTSTAMP:20260426T015723Z
DESCRIPTION:New CASA Volunteer Training - in-person sessions. Will be offer
 ed over Zoom unless COVID conditions allow us to meet in-person
DTSTART;TZID=America/Chicago:20210406T180000
DTEND;TZID=America/Chicago:20210406T210000
LOCATION:By Zoom or at the CASA Office if conditions allow
SUMMARY:CASA New Volunteer Training
END:VEVENT
END:VCALENDAR
