BEGIN:VCALENDAR
VERSION:2.0
PRODID:-//www.casa4lancaster.org//NONSGML kigkonsult.se iCalcreator 2.30.10
 //
CALSCALE:GREGORIAN
METHOD:PUBLISH
UID:5437ee09-6ecf-4083-b824-89530fec56a8
X-WR-CALDESC:New CASA Volunteer Training - in-person sessions. Will be offe
 red over Zoom unless COVID conditions allow us to meet in-person
X-WR-RELCALID:a2b1a054733d6a5a078ff302ed463275
X-WR-TIMEZONE:America/Chicago
BEGIN:VTIMEZONE
TZID:America/Chicago
BEGIN:STANDARD
TZNAME:CST
DTSTART:20201101T020000
TZOFFSETFROM:-0500
TZOFFSETTO:-0600
RDATE:20211107T020000
END:STANDARD
BEGIN:DAYLIGHT
TZNAME:CDT
DTSTART:20210314T020000
TZOFFSETFROM:-0600
TZOFFSETTO:-0500
RDATE:20220313T020000
END:DAYLIGHT
END:VTIMEZONE
BEGIN:VEVENT
UID:4df0ab47-35aa-4e86-990c-a7be512e2ae9
DTSTAMP:20260426T015907Z
DESCRIPTION:New CASA Volunteer Training - in-person sessions. Will be offer
 ed over Zoom unless COVID conditions allow us to meet in-person
DTSTART;TZID=America/Chicago:20210413T180000
DTEND;TZID=America/Chicago:20210413T210000
LOCATION:By Zoom or at the CASA Office if conditions allow
SUMMARY:CASA New Volunteer Training
END:VEVENT
END:VCALENDAR
