BEGIN:VCALENDAR
VERSION:2.0
PRODID:-//www.casa4lancaster.org//NONSGML kigkonsult.se iCalcreator 2.30.10
 //
CALSCALE:GREGORIAN
METHOD:PUBLISH
UID:bc9eaf98-cf37-42d6-a33a-f50af22d2f16
X-WR-CALDESC:New CASA Volunteer Training - in-person sessions. Will be offe
 red over Zoom unless COVID conditions allow us to meet in-person
X-WR-RELCALID:fbc6975559f90ba6256a9bc968ab5d69
X-WR-TIMEZONE:America/Chicago
BEGIN:VTIMEZONE
TZID:America/Chicago
BEGIN:STANDARD
TZNAME:CST
DTSTART:20201101T020000
TZOFFSETFROM:-0500
TZOFFSETTO:-0600
RDATE:20211107T020000
END:STANDARD
BEGIN:DAYLIGHT
TZNAME:CDT
DTSTART:20210314T020000
TZOFFSETFROM:-0600
TZOFFSETTO:-0500
RDATE:20220313T020000
END:DAYLIGHT
END:VTIMEZONE
BEGIN:VEVENT
UID:9e97bc47-7aba-4569-ad92-8b23e0621a84
DTSTAMP:20260426T020240Z
DESCRIPTION:New CASA Volunteer Training - in-person sessions. Will be offer
 ed over Zoom unless COVID conditions allow us to meet in-person
DTSTART;TZID=America/Chicago:20210420T180000
DTEND;TZID=America/Chicago:20210420T210000
LOCATION:By Zoom or at the CASA Office if conditions allow
SUMMARY:CASA New Volunteer Training
END:VEVENT
END:VCALENDAR
