BEGIN:VCALENDAR
VERSION:2.0
PRODID:-//www.casa4lancaster.org//NONSGML kigkonsult.se iCalcreator 2.30.10
 //
CALSCALE:GREGORIAN
METHOD:PUBLISH
UID:3bce154f-2a4c-44e9-ba1a-2196946ebd5f
X-WR-CALDESC:New CASA Volunteer Training - in-person sessions. Will be offe
 red over Zoom unless COVID conditions allow us to meet in-person
X-WR-RELCALID:1c8d4c2376ea1865b88068ac3a2833d2
X-WR-TIMEZONE:America/Chicago
BEGIN:VTIMEZONE
TZID:America/Chicago
BEGIN:STANDARD
TZNAME:CST
DTSTART:20201101T020000
TZOFFSETFROM:-0500
TZOFFSETTO:-0600
RDATE:20211107T020000
END:STANDARD
BEGIN:DAYLIGHT
TZNAME:CDT
DTSTART:20210314T020000
TZOFFSETFROM:-0600
TZOFFSETTO:-0500
RDATE:20220313T020000
END:DAYLIGHT
END:VTIMEZONE
BEGIN:VEVENT
UID:4606a5ad-4dc8-43b1-983f-e5232b4d1c61
DTSTAMP:20260426T010357Z
DESCRIPTION:New CASA Volunteer Training - in-person sessions. Will be offer
 ed over Zoom unless COVID conditions allow us to meet in-person
DTSTART;TZID=America/Chicago:20210504T180000
DTEND;TZID=America/Chicago:20210504T210000
LOCATION:By Zoom or at the CASA Office if conditions allow
SUMMARY:CASA New Volunteer Training
END:VEVENT
END:VCALENDAR
