BEGIN:VCALENDAR
VERSION:2.0
PRODID:-//www.casa4lancaster.org//NONSGML kigkonsult.se iCalcreator 2.30.10
 //
CALSCALE:GREGORIAN
METHOD:PUBLISH
UID:20e07605-5f66-4e87-a672-0f7e8a6fde9c
X-WR-CALDESC:
X-WR-RELCALID:87827878017745fe58c3e482895d7e99
X-WR-TIMEZONE:America/Chicago
BEGIN:VTIMEZONE
TZID:America/Chicago
BEGIN:STANDARD
TZNAME:CST
DTSTART:20201101T020000
TZOFFSETFROM:-0500
TZOFFSETTO:-0600
RDATE:20211107T020000
RDATE:20221106T020000
END:STANDARD
BEGIN:DAYLIGHT
TZNAME:CDT
DTSTART:20210314T020000
TZOFFSETFROM:-0600
TZOFFSETTO:-0500
RDATE:20220313T020000
END:DAYLIGHT
END:VTIMEZONE
BEGIN:VEVENT
UID:a5e5f554-95a8-477c-ab50-900a15baab22
DTSTAMP:20260426T005049Z
DESCRIPTION:
DTSTART;TZID=America/Chicago:20210519T113000
DTEND;TZID=America/Chicago:20210519T133000
LOCATION:In-Service/Continuing Education Training - via Zoom - contact CASA
  Office for Zoom Link
SUMMARY:In-Service Training - Identities (via Zoom)
END:VEVENT
END:VCALENDAR
