BEGIN:VCALENDAR
VERSION:2.0
PRODID:-//www.casa4lancaster.org//NONSGML kigkonsult.se iCalcreator 2.30.10
 //
CALSCALE:GREGORIAN
METHOD:PUBLISH
UID:afb5f2c4-2a10-41c0-9ed1-211404ad3b59
X-WR-CALDESC:The CASA Office is located at 1141 H Street\, 3rd Floor. There
  is a parking lot south of the building - enter from the alley.
X-WR-RELCALID:a9f37104556f82f01b8cdd4c9c022eb2
X-WR-TIMEZONE:America/Chicago
BEGIN:VTIMEZONE
TZID:America/Chicago
BEGIN:STANDARD
TZNAME:CST
DTSTART:20201101T020000
TZOFFSETFROM:-0500
TZOFFSETTO:-0600
RDATE:20211107T020000
RDATE:20221106T020000
END:STANDARD
BEGIN:DAYLIGHT
TZNAME:CDT
DTSTART:20210314T020000
TZOFFSETFROM:-0600
TZOFFSETTO:-0500
RDATE:20220313T020000
END:DAYLIGHT
END:VTIMEZONE
BEGIN:VEVENT
UID:7741ceec-c9e7-42db-a4a0-a0842db86a17
DTSTAMP:20260425T232542Z
DESCRIPTION:The CASA Office is located at 1141 H Street\, 3rd Floor. There 
 is a parking lot south of the building - enter from the alley.
DTSTART;TZID=America/Chicago:20210601T180000
DTEND;TZID=America/Chicago:20210601T210000
LOCATION:Depending on COVID conditions\, trainings will be via Zoom or at t
 he CASA Office
SUMMARY:New Volunteer Training
END:VEVENT
END:VCALENDAR
