BEGIN:VCALENDAR
VERSION:2.0
PRODID:-//www.casa4lancaster.org//NONSGML kigkonsult.se iCalcreator 2.30.10
 //
CALSCALE:GREGORIAN
METHOD:PUBLISH
UID:94de5915-66e5-4c78-bf11-d43c71c01265
X-WR-CALDESC:The CASA Office is located at 1141 H Street\, 3rd Floor. There
  is a parking lot south of the building - enter from the alley.
X-WR-RELCALID:ecc12e305f9d24d3403d7d4b32d4e4fc
X-WR-TIMEZONE:America/Chicago
BEGIN:VTIMEZONE
TZID:America/Chicago
BEGIN:STANDARD
TZNAME:CST
DTSTART:20201101T020000
TZOFFSETFROM:-0500
TZOFFSETTO:-0600
RDATE:20211107T020000
RDATE:20221106T020000
END:STANDARD
BEGIN:DAYLIGHT
TZNAME:CDT
DTSTART:20210314T020000
TZOFFSETFROM:-0600
TZOFFSETTO:-0500
RDATE:20220313T020000
END:DAYLIGHT
END:VTIMEZONE
BEGIN:VEVENT
UID:6e8e2a5f-dd33-40b2-9e7e-0d2ea7cb1657
DTSTAMP:20260425T232712Z
DESCRIPTION:The CASA Office is located at 1141 H Street\, 3rd Floor. There 
 is a parking lot south of the building - enter from the alley.
DTSTART;TZID=America/Chicago:20210608T180000
DTEND;TZID=America/Chicago:20210608T210000
LOCATION:Depending on COVID conditions\, trainings will be via Zoom or at t
 he CASA Office
SUMMARY:New Volunteer Training
END:VEVENT
END:VCALENDAR
