BEGIN:VCALENDAR
VERSION:2.0
PRODID:-//www.casa4lancaster.org//NONSGML kigkonsult.se iCalcreator 2.30.10
 //
CALSCALE:GREGORIAN
METHOD:PUBLISH
UID:bb9e96fc-1c83-43ec-90af-8da8c200b282
X-WR-CALDESC:The CASA Office is located at 1141 H Street\, 3rd Floor. There
  is a parking lot south of the building - enter from the alley.
X-WR-RELCALID:d80206d739beb592adf0b8ac82b5fe8c
X-WR-TIMEZONE:America/Chicago
BEGIN:VTIMEZONE
TZID:America/Chicago
BEGIN:STANDARD
TZNAME:CST
DTSTART:20201101T020000
TZOFFSETFROM:-0500
TZOFFSETTO:-0600
RDATE:20211107T020000
RDATE:20221106T020000
END:STANDARD
BEGIN:DAYLIGHT
TZNAME:CDT
DTSTART:20210314T020000
TZOFFSETFROM:-0600
TZOFFSETTO:-0500
RDATE:20220313T020000
END:DAYLIGHT
END:VTIMEZONE
BEGIN:VEVENT
UID:3612b352-2682-4874-8750-11c71330f006
DTSTAMP:20260425T232232Z
DESCRIPTION:The CASA Office is located at 1141 H Street\, 3rd Floor. There 
 is a parking lot south of the building - enter from the alley.
DTSTART;TZID=America/Chicago:20210622T180000
DTEND;TZID=America/Chicago:20210622T210000
LOCATION:Depending on COVID conditions\, trainings will be via Zoom or at t
 he CASA Office
SUMMARY:New Volunteer Training
END:VEVENT
END:VCALENDAR
