BEGIN:VCALENDAR
VERSION:2.0
PRODID:-//www.casa4lancaster.org//NONSGML kigkonsult.se iCalcreator 2.30.10
 //
CALSCALE:GREGORIAN
METHOD:PUBLISH
UID:aa2d5484-975e-45af-ba3c-a603e6a42a75
X-WR-CALDESC:The CASA Office is located at 1141 H Street\, 3rd Floor. There
  is a parking lot south of the building - enter from the alley.
X-WR-RELCALID:f761dbbcfc0563c01aa841f1e20b84cf
X-WR-TIMEZONE:America/Chicago
BEGIN:VTIMEZONE
TZID:America/Chicago
BEGIN:STANDARD
TZNAME:CST
DTSTART:20201101T020000
TZOFFSETFROM:-0500
TZOFFSETTO:-0600
RDATE:20211107T020000
RDATE:20221106T020000
END:STANDARD
BEGIN:DAYLIGHT
TZNAME:CDT
DTSTART:20210314T020000
TZOFFSETFROM:-0600
TZOFFSETTO:-0500
RDATE:20220313T020000
END:DAYLIGHT
END:VTIMEZONE
BEGIN:VEVENT
UID:f0f099fe-e5cc-4ae2-a3db-0ab25091fbfb
DTSTAMP:20260425T232405Z
DESCRIPTION:The CASA Office is located at 1141 H Street\, 3rd Floor. There 
 is a parking lot south of the building - enter from the alley.
DTSTART;TZID=America/Chicago:20210629T180000
DTEND;TZID=America/Chicago:20210629T210000
LOCATION:Depending on COVID conditions\, trainings will be via Zoom or at t
 he CASA Office
SUMMARY:New Volunteer Training
END:VEVENT
END:VCALENDAR
