BEGIN:VCALENDAR
VERSION:2.0
PRODID:-//www.casa4lancaster.org//NONSGML kigkonsult.se iCalcreator 2.30.10
 //
CALSCALE:GREGORIAN
METHOD:PUBLISH
UID:4f84d787-fb89-44f4-aaa4-db372320e89d
X-WR-CALDESC:The CASA Office is located at 1141 H Street\, 3rd Floor. There
  is a parking lot south of the building\, enter from the alley.
X-WR-RELCALID:8dc7a11bfc65e0eae266e8880529e206
X-WR-TIMEZONE:America/Chicago
BEGIN:VTIMEZONE
TZID:America/Chicago
BEGIN:STANDARD
TZNAME:CST
DTSTART:20201101T020000
TZOFFSETFROM:-0500
TZOFFSETTO:-0600
RDATE:20211107T020000
RDATE:20221106T020000
END:STANDARD
BEGIN:DAYLIGHT
TZNAME:CDT
DTSTART:20210314T020000
TZOFFSETFROM:-0600
TZOFFSETTO:-0500
RDATE:20220313T020000
END:DAYLIGHT
END:VTIMEZONE
BEGIN:VEVENT
UID:ab67a68e-217b-4dab-bb15-03ff62d80c6a
DTSTAMP:20260425T203047Z
DESCRIPTION:The CASA Office is located at 1141 H Street\, 3rd Floor. There 
 is a parking lot south of the building\, enter from the alley.
DTSTART;TZID=America/Chicago:20210803T180000
DTEND;TZID=America/Chicago:20210803T210000
LOCATION:Depending on COVID conditions\, training will be via Zoom or at th
 e CASA Office
SUMMARY:New CASA Volunteer Training
END:VEVENT
END:VCALENDAR
