BEGIN:VCALENDAR
VERSION:2.0
PRODID:-//www.casa4lancaster.org//NONSGML kigkonsult.se iCalcreator 2.30.10
 //
CALSCALE:GREGORIAN
METHOD:PUBLISH
UID:be5e67e7-3ac6-441f-ab49-7e9b8054d31d
X-WR-CALDESC:The CASA Office is located at 1141 H Street\, 3rd Floor. There
  is a parking lot south of the building\, enter from the alley.
X-WR-RELCALID:c22314aabf34bae6d2c4e9dae0c6bc72
X-WR-TIMEZONE:America/Chicago
BEGIN:VTIMEZONE
TZID:America/Chicago
BEGIN:STANDARD
TZNAME:CST
DTSTART:20201101T020000
TZOFFSETFROM:-0500
TZOFFSETTO:-0600
RDATE:20211107T020000
RDATE:20221106T020000
END:STANDARD
BEGIN:DAYLIGHT
TZNAME:CDT
DTSTART:20210314T020000
TZOFFSETFROM:-0600
TZOFFSETTO:-0500
RDATE:20220313T020000
END:DAYLIGHT
END:VTIMEZONE
BEGIN:VEVENT
UID:748ca28e-8d87-442f-bbe9-99c1a7430dc6
DTSTAMP:20260425T202934Z
DESCRIPTION:The CASA Office is located at 1141 H Street\, 3rd Floor. There 
 is a parking lot south of the building\, enter from the alley.
DTSTART;TZID=America/Chicago:20210817T180000
DTEND;TZID=America/Chicago:20210817T210000
LOCATION:Depending on COVID conditions\, training will be via Zoom or at th
 e CASA Office
SUMMARY:New CASA Volunteer Training
END:VEVENT
END:VCALENDAR
