BEGIN:VCALENDAR
VERSION:2.0
PRODID:-//www.casa4lancaster.org//NONSGML kigkonsult.se iCalcreator 2.30.10
 //
CALSCALE:GREGORIAN
METHOD:PUBLISH
UID:08fec9b3-d163-446d-a3b9-b70761a3ab47
X-WR-CALDESC:The CASA office is located at 1141 H Street\, 3rd Floor. There
  is a parking lot south of the building\, enter from the alley
X-WR-RELCALID:1056682331c544ffc07b23386ef0a6eb
X-WR-TIMEZONE:America/Chicago
BEGIN:VTIMEZONE
TZID:America/Chicago
BEGIN:STANDARD
TZNAME:CST
DTSTART:20201101T020000
TZOFFSETFROM:-0500
TZOFFSETTO:-0600
RDATE:20211107T020000
RDATE:20221106T020000
END:STANDARD
BEGIN:DAYLIGHT
TZNAME:CDT
DTSTART:20210314T020000
TZOFFSETFROM:-0600
TZOFFSETTO:-0500
RDATE:20220313T020000
RDATE:20230312T020000
END:DAYLIGHT
END:VTIMEZONE
BEGIN:VEVENT
UID:d6803327-f552-4e46-b7bd-9513ba0f6356
DTSTAMP:20260425T174841Z
DESCRIPTION:The CASA office is located at 1141 H Street\, 3rd Floor. There 
 is a parking lot south of the building\, enter from the alley
DTSTART;TZID=America/Chicago:20211005T180000
DTEND;TZID=America/Chicago:20211005T210000
LOCATION:Depending on COVID\, training will be via Zoom or held at the CASA
  Office
SUMMARY:New CASA Volunteer Training
END:VEVENT
END:VCALENDAR
