BEGIN:VCALENDAR
VERSION:2.0
PRODID:-//www.casa4lancaster.org//NONSGML kigkonsult.se iCalcreator 2.30.10
 //
CALSCALE:GREGORIAN
METHOD:PUBLISH
UID:b7346c55-13ff-4dfe-9c09-ab93519e22b8
X-WR-CALDESC:The CASA office is located at 1141 H Street\, 3rd Floor. There
  is a parking lot south of the building\, enter from the alley
X-WR-RELCALID:9a7b2b157e06fffde0f8c9f24d57a2a0
X-WR-TIMEZONE:America/Chicago
BEGIN:VTIMEZONE
TZID:America/Chicago
BEGIN:STANDARD
TZNAME:CST
DTSTART:20201101T020000
TZOFFSETFROM:-0500
TZOFFSETTO:-0600
RDATE:20211107T020000
RDATE:20221106T020000
END:STANDARD
BEGIN:DAYLIGHT
TZNAME:CDT
DTSTART:20210314T020000
TZOFFSETFROM:-0600
TZOFFSETTO:-0500
RDATE:20220313T020000
RDATE:20230312T020000
END:DAYLIGHT
END:VTIMEZONE
BEGIN:VEVENT
UID:414c7b39-f62f-4b05-b38c-bd6de7c53e07
DTSTAMP:20260425T174658Z
DESCRIPTION:The CASA office is located at 1141 H Street\, 3rd Floor. There 
 is a parking lot south of the building\, enter from the alley
DTSTART;TZID=America/Chicago:20211026T180000
DTEND;TZID=America/Chicago:20211026T210000
LOCATION:Depending on COVID\, training will be via Zoom or held at the CASA
  Office
SUMMARY:New CASA Volunteer Training
END:VEVENT
END:VCALENDAR
