BEGIN:VCALENDAR
VERSION:2.0
PRODID:-//www.casa4lancaster.org//NONSGML kigkonsult.se iCalcreator 2.30.10
 //
CALSCALE:GREGORIAN
METHOD:PUBLISH
UID:4e15b0e9-7f08-46f5-95ab-415079c8ddff
X-WR-CALDESC:The CASA office is located at 1141 H Street\, 3rd Floor. There
  is a parking lot south of the building\, enter from the alley
X-WR-RELCALID:46a5b9bf77795e2946168642abc15df0
X-WR-TIMEZONE:America/Chicago
BEGIN:VTIMEZONE
TZID:America/Chicago
BEGIN:STANDARD
TZNAME:CST
DTSTART:20211107T020000
TZOFFSETFROM:-0500
TZOFFSETTO:-0600
RDATE:20221106T020000
END:STANDARD
BEGIN:DAYLIGHT
TZNAME:CDT
DTSTART:20210314T020000
TZOFFSETFROM:-0600
TZOFFSETTO:-0500
RDATE:20220313T020000
RDATE:20230312T020000
END:DAYLIGHT
END:VTIMEZONE
BEGIN:VEVENT
UID:8eda2fe8-ad5c-437d-9c7a-35c6d9acf6e2
DTSTAMP:20260425T163450Z
DESCRIPTION:The CASA office is located at 1141 H Street\, 3rd Floor. There 
 is a parking lot south of the building\, enter from the alley
DTSTART;TZID=America/Chicago:20211102T180000
DTEND;TZID=America/Chicago:20211102T210000
LOCATION:Depending on COVID\, training will be via Zoom or held at the CASA
  Office
SUMMARY:New CASA Volunteer Training
END:VEVENT
END:VCALENDAR
