BEGIN:VCALENDAR
VERSION:2.0
PRODID:-//www.casa4lancaster.org//NONSGML kigkonsult.se iCalcreator 2.30.10
 //
CALSCALE:GREGORIAN
METHOD:PUBLISH
UID:183a99d3-c8a7-4b5d-bf68-2a5d109eaf29
X-WR-CALDESC:The CASA office is located at 1141 H Street\, 3rd Floor. There
  is a parking lot south of the building\, enter from the alley
X-WR-RELCALID:8c7c120adb9df3408af1ffc1897fb3d9
X-WR-TIMEZONE:America/Chicago
BEGIN:VTIMEZONE
TZID:America/Chicago
BEGIN:STANDARD
TZNAME:CST
DTSTART:20211107T020000
TZOFFSETFROM:-0500
TZOFFSETTO:-0600
RDATE:20221106T020000
END:STANDARD
BEGIN:DAYLIGHT
TZNAME:CDT
DTSTART:20210314T020000
TZOFFSETFROM:-0600
TZOFFSETTO:-0500
RDATE:20220313T020000
RDATE:20230312T020000
END:DAYLIGHT
END:VTIMEZONE
BEGIN:VEVENT
UID:14a38429-afa7-49a1-9aa3-6cdd6373d2dc
DTSTAMP:20260425T162851Z
DESCRIPTION:The CASA office is located at 1141 H Street\, 3rd Floor. There 
 is a parking lot south of the building\, enter from the alley
DTSTART;TZID=America/Chicago:20211109T180000
DTEND;TZID=America/Chicago:20211109T210000
LOCATION:Depending on COVID\, training will be via Zoom or held at the CASA
  Office
SUMMARY:New CASA Volunteer Training
END:VEVENT
END:VCALENDAR
