BEGIN:VCALENDAR
VERSION:2.0
PRODID:-//www.casa4lancaster.org//NONSGML kigkonsult.se iCalcreator 2.30.10
 //
CALSCALE:GREGORIAN
METHOD:PUBLISH
UID:5937d293-dc6d-4875-95bd-296a61cc06df
X-WR-CALDESC:New CASA Volunteer Training - must submit application by Janua
 ry 15th.
X-WR-RELCALID:c52dd2457543be5e40749d1ae854b68d
X-WR-TIMEZONE:America/Chicago
BEGIN:VTIMEZONE
TZID:America/Chicago
BEGIN:STANDARD
TZNAME:CST
DTSTART:20211107T020000
TZOFFSETFROM:-0500
TZOFFSETTO:-0600
RDATE:20221106T020000
END:STANDARD
BEGIN:DAYLIGHT
TZNAME:CDT
DTSTART:20210314T020000
TZOFFSETFROM:-0600
TZOFFSETTO:-0500
RDATE:20220313T020000
RDATE:20230312T020000
END:DAYLIGHT
END:VTIMEZONE
BEGIN:VEVENT
UID:517c6a8d-27e4-424a-a50f-f91a36eb310a
DTSTAMP:20260425T122818Z
DESCRIPTION:New CASA Volunteer Training - must submit application by Januar
 y 15th.
DTSTART;TZID=America/Chicago:20220208T180000
DTEND;TZID=America/Chicago:20220208T210000
LOCATION:CASA for Lancaster County\, 1141 H Street\, 3rd Floor
SUMMARY:New CASA Volunteer Training
END:VEVENT
END:VCALENDAR
