BEGIN:VCALENDAR
VERSION:2.0
PRODID:-//www.casa4lancaster.org//NONSGML kigkonsult.se iCalcreator 2.30.10
 //
CALSCALE:GREGORIAN
METHOD:PUBLISH
UID:51f9b64c-560d-4836-97fb-1c9ab7174b4c
X-WR-CALDESC:New CASA Volunteer Training - must submit application by Janua
 ry 15th.
X-WR-RELCALID:cd551eb584524fca962400e40df0370b
X-WR-TIMEZONE:America/Chicago
BEGIN:VTIMEZONE
TZID:America/Chicago
BEGIN:STANDARD
TZNAME:CST
DTSTART:20211107T020000
TZOFFSETFROM:-0500
TZOFFSETTO:-0600
RDATE:20221106T020000
END:STANDARD
BEGIN:DAYLIGHT
TZNAME:CDT
DTSTART:20210314T020000
TZOFFSETFROM:-0600
TZOFFSETTO:-0500
RDATE:20220313T020000
RDATE:20230312T020000
END:DAYLIGHT
END:VTIMEZONE
BEGIN:VEVENT
UID:4bedcf4f-1c9b-4033-9bf5-0bc62bdc83be
DTSTAMP:20260425T121454Z
DESCRIPTION:New CASA Volunteer Training - must submit application by Januar
 y 15th.
DTSTART;TZID=America/Chicago:20220222T180000
DTEND;TZID=America/Chicago:20220222T210000
LOCATION:CASA for Lancaster County\, 1141 H Street\, 3rd Floor
SUMMARY:New CASA Volunteer Training
END:VEVENT
END:VCALENDAR
