BEGIN:VCALENDAR
VERSION:2.0
PRODID:-//www.casa4lancaster.org//NONSGML kigkonsult.se iCalcreator 2.30.10
 //
CALSCALE:GREGORIAN
METHOD:PUBLISH
UID:e8240a80-9bb7-4210-899e-7b441bd9b068
X-WR-CALDESC:New CASA Volunteer Training - must submit application by Janua
 ry 15th.
X-WR-RELCALID:1fa1a2c48e2898ab86acdaa98ae99393
X-WR-TIMEZONE:America/Chicago
BEGIN:VTIMEZONE
TZID:America/Chicago
BEGIN:STANDARD
TZNAME:CST
DTSTART:20211107T020000
TZOFFSETFROM:-0500
TZOFFSETTO:-0600
RDATE:20221106T020000
END:STANDARD
BEGIN:DAYLIGHT
TZNAME:CDT
DTSTART:20210314T020000
TZOFFSETFROM:-0600
TZOFFSETTO:-0500
RDATE:20220313T020000
RDATE:20230312T020000
END:DAYLIGHT
END:VTIMEZONE
BEGIN:VEVENT
UID:e4f9482b-a7ce-4afc-a0b6-91a0aff00ad8
DTSTAMP:20260425T105721Z
DESCRIPTION:New CASA Volunteer Training - must submit application by Januar
 y 15th.
DTSTART;TZID=America/Chicago:20220301T180000
DTEND;TZID=America/Chicago:20220301T210000
LOCATION:CASA for Lancaster County\, 1141 H Street\, 3rd Floor
SUMMARY:New CASA Volunteer Training
END:VEVENT
END:VCALENDAR
