BEGIN:VCALENDAR
VERSION:2.0
PRODID:-//www.casa4lancaster.org//NONSGML kigkonsult.se iCalcreator 2.30.10
 //
CALSCALE:GREGORIAN
METHOD:PUBLISH
UID:940e5611-74f8-4e99-a030-d2ee91a6a355
X-WR-CALDESC:
X-WR-RELCALID:5e90e5eade35b5fc10d26bf7fc8a7079
X-WR-TIMEZONE:America/Chicago
BEGIN:VTIMEZONE
TZID:America/Chicago
BEGIN:STANDARD
TZNAME:CST
DTSTART:20211107T020000
TZOFFSETFROM:-0500
TZOFFSETTO:-0600
RDATE:20221106T020000
END:STANDARD
BEGIN:DAYLIGHT
TZNAME:CDT
DTSTART:20220313T020000
TZOFFSETFROM:-0600
TZOFFSETTO:-0500
RDATE:20230312T020000
END:DAYLIGHT
END:VTIMEZONE
BEGIN:VEVENT
UID:7294c37b-ed16-4489-affa-3892a7543788
DTSTAMP:20260423T170732Z
DESCRIPTION:
DTSTART;TZID=America/Chicago:20220503T180000
DTEND;TZID=America/Chicago:20220503T210000
LOCATION:CASA for Lancaster County Office\, 1141 H Street\, 3rd Floor
SUMMARY:New CASA Volunteer Training
END:VEVENT
END:VCALENDAR
