BEGIN:VCALENDAR
VERSION:2.0
PRODID:-//www.casa4lancaster.org//NONSGML kigkonsult.se iCalcreator 2.30.10
 //
CALSCALE:GREGORIAN
METHOD:PUBLISH
UID:0c0c6f92-6837-4c28-9e8f-2c01acbe3d93
X-WR-CALDESC:
X-WR-RELCALID:591fe00e08ce08838bc893bde0c20bb5
X-WR-TIMEZONE:America/Chicago
BEGIN:VTIMEZONE
TZID:America/Chicago
BEGIN:STANDARD
TZNAME:CST
DTSTART:20211107T020000
TZOFFSETFROM:-0500
TZOFFSETTO:-0600
RDATE:20221106T020000
RDATE:20231105T020000
END:STANDARD
BEGIN:DAYLIGHT
TZNAME:CDT
DTSTART:20220313T020000
TZOFFSETFROM:-0600
TZOFFSETTO:-0500
RDATE:20230312T020000
END:DAYLIGHT
END:VTIMEZONE
BEGIN:VEVENT
UID:f3672cac-ea62-40d0-8d74-10245feca308
DTSTAMP:20260423T155154Z
DESCRIPTION:
DTSTART;TZID=America/Chicago:20220614T180000
DTEND;TZID=America/Chicago:20220614T210000
LOCATION:CASA for Lancaster County Office\, 1141 H Street\, 3rd Floor
SUMMARY:CASA New Volunteer Training
END:VEVENT
END:VCALENDAR
