BEGIN:VCALENDAR
VERSION:2.0
PRODID:-//www.casa4lancaster.org//NONSGML kigkonsult.se iCalcreator 2.30.10
 //
CALSCALE:GREGORIAN
METHOD:PUBLISH
UID:87f1a0e5-52db-4816-8924-1b3ea2d7715e
X-WR-CALDESC:
X-WR-RELCALID:059752cbf4ca99d9b5d2413a9897ddcd
X-WR-TIMEZONE:America/Chicago
BEGIN:VTIMEZONE
TZID:America/Chicago
BEGIN:STANDARD
TZNAME:CST
DTSTART:20211107T020000
TZOFFSETFROM:-0500
TZOFFSETTO:-0600
RDATE:20221106T020000
RDATE:20231105T020000
END:STANDARD
BEGIN:DAYLIGHT
TZNAME:CDT
DTSTART:20220313T020000
TZOFFSETFROM:-0600
TZOFFSETTO:-0500
RDATE:20230312T020000
END:DAYLIGHT
END:VTIMEZONE
BEGIN:VEVENT
UID:269430d9-4e55-4fe5-974b-1eb3983e1c77
DTSTAMP:20260423T154338Z
DESCRIPTION:
DTSTART;TZID=America/Chicago:20220621T180000
DTEND;TZID=America/Chicago:20220621T210000
LOCATION:CASA for Lancaster County Office\, 1141 H Street\, 3rd Floor
SUMMARY:CASA New Volunteer Training
END:VEVENT
END:VCALENDAR
