BEGIN:VCALENDAR
VERSION:2.0
PRODID:-//www.casa4lancaster.org//NONSGML kigkonsult.se iCalcreator 2.30.10
 //
CALSCALE:GREGORIAN
METHOD:PUBLISH
UID:1663fa2d-7f6e-48c5-8d88-42f6b1328ede
X-WR-CALDESC:
X-WR-RELCALID:9e7d6af9069cb68c951e277c4f9b111a
X-WR-TIMEZONE:America/Chicago
BEGIN:VTIMEZONE
TZID:America/Chicago
BEGIN:STANDARD
TZNAME:CST
DTSTART:20211107T020000
TZOFFSETFROM:-0500
TZOFFSETTO:-0600
RDATE:20221106T020000
RDATE:20231105T020000
END:STANDARD
BEGIN:DAYLIGHT
TZNAME:CDT
DTSTART:20220313T020000
TZOFFSETFROM:-0600
TZOFFSETTO:-0500
RDATE:20230312T020000
END:DAYLIGHT
END:VTIMEZONE
BEGIN:VEVENT
UID:cd2877b9-f3b5-414c-bda5-2d76121cc4aa
DTSTAMP:20260423T154719Z
DESCRIPTION:
DTSTART;TZID=America/Chicago:20220628T180000
DTEND;TZID=America/Chicago:20220628T210000
LOCATION:CASA for Lancaster County Office\, 1141 H Street\, 3rd Floor
SUMMARY:CASA New Volunteer Training
END:VEVENT
END:VCALENDAR
