BEGIN:VCALENDAR
VERSION:2.0
PRODID:-//www.casa4lancaster.org//NONSGML kigkonsult.se iCalcreator 2.30.10
 //
CALSCALE:GREGORIAN
METHOD:PUBLISH
UID:f2721886-f722-4e1b-a140-122cf301c77b
X-WR-CALDESC:
X-WR-RELCALID:0ffefe29d71b5bf7b98389279431696c
X-WR-TIMEZONE:America/Chicago
BEGIN:VTIMEZONE
TZID:America/Chicago
BEGIN:STANDARD
TZNAME:CST
DTSTART:20211107T020000
TZOFFSETFROM:-0500
TZOFFSETTO:-0600
RDATE:20221106T020000
RDATE:20231105T020000
END:STANDARD
BEGIN:DAYLIGHT
TZNAME:CDT
DTSTART:20220313T020000
TZOFFSETFROM:-0600
TZOFFSETTO:-0500
RDATE:20230312T020000
END:DAYLIGHT
END:VTIMEZONE
BEGIN:VEVENT
UID:b9de05ae-ec6d-4092-92c7-7157599262bb
DTSTAMP:20260423T142956Z
DESCRIPTION:
DTSTART;TZID=America/Chicago:20220705T180000
DTEND;TZID=America/Chicago:20220705T210000
LOCATION:CASA for Lancaster County Office\, 1141 H Street\, 3rd Floor
SUMMARY:CASA New Volunteer Training
END:VEVENT
END:VCALENDAR
