BEGIN:VCALENDAR
VERSION:2.0
PRODID:-//www.casa4lancaster.org//NONSGML kigkonsult.se iCalcreator 2.30.10
 //
CALSCALE:GREGORIAN
METHOD:PUBLISH
UID:ef77d63d-9bcc-4ae4-a538-72464281c27b
X-WR-CALDESC:
X-WR-RELCALID:a508f5e30b251f49863d09de6bc0d94c
X-WR-TIMEZONE:America/Chicago
BEGIN:VTIMEZONE
TZID:America/Chicago
BEGIN:STANDARD
TZNAME:CST
DTSTART:20211107T020000
TZOFFSETFROM:-0500
TZOFFSETTO:-0600
RDATE:20221106T020000
RDATE:20231105T020000
END:STANDARD
BEGIN:DAYLIGHT
TZNAME:CDT
DTSTART:20220313T020000
TZOFFSETFROM:-0600
TZOFFSETTO:-0500
RDATE:20230312T020000
END:DAYLIGHT
END:VTIMEZONE
BEGIN:VEVENT
UID:2bdf1cf7-c173-45ff-b255-b674fb37943c
DTSTAMP:20260423T113649Z
DESCRIPTION:
DTSTART;TZID=America/Chicago:20220906T180000
DTEND;TZID=America/Chicago:20220906T210000
LOCATION:CASA for Lancaster County Office\, 1141 H Street\, 3rd Floor
SUMMARY:New CASA Volunteer Training
END:VEVENT
END:VCALENDAR
