BEGIN:VCALENDAR
VERSION:2.0
PRODID:-//www.casa4lancaster.org//NONSGML kigkonsult.se iCalcreator 2.30.10
 //
CALSCALE:GREGORIAN
METHOD:PUBLISH
UID:705cef3d-ebc9-42cc-9634-732ac08154ec
X-WR-CALDESC:CASA for Lancaster County Office - corner of 12th & H Streets.
  Parking behind (south) the building\, enter from the alley. Use the door 
 on the west side of the building and follow the hallway to the stairs. We 
 are on the 3rd Floor.
X-WR-RELCALID:9094252682da2d9baa12112b3c9811ff
X-WR-TIMEZONE:America/Chicago
BEGIN:VTIMEZONE
TZID:America/Chicago
BEGIN:STANDARD
TZNAME:CST
DTSTART:20221106T020000
TZOFFSETFROM:-0500
TZOFFSETTO:-0600
RDATE:20231105T020000
END:STANDARD
BEGIN:DAYLIGHT
TZNAME:CDT
DTSTART:20220313T020000
TZOFFSETFROM:-0600
TZOFFSETTO:-0500
RDATE:20230312T020000
RDATE:20240310T020000
END:DAYLIGHT
END:VTIMEZONE
BEGIN:VEVENT
UID:4436f146-779e-423a-bac0-a5df401f5176
DTSTAMP:20260423T065530Z
DESCRIPTION:CASA for Lancaster County Office - corner of 12th & H Streets. 
 Parking behind (south) the building\, enter from the alley. Use the door o
 n the west side of the building and follow the hallway to the stairs. We a
 re on the 3rd Floor.
DTSTART;TZID=America/Chicago:20230124T180000
DTEND;TZID=America/Chicago:20230124T210000
LOCATION:1141 H Street\, 3rd Floor\, Lincoln\, NE 68508 US
SUMMARY:New CASA Volunteer Training
END:VEVENT
END:VCALENDAR
