BEGIN:VCALENDAR
VERSION:2.0
PRODID:-//www.casa4lancaster.org//NONSGML kigkonsult.se iCalcreator 2.30.10
 //
CALSCALE:GREGORIAN
METHOD:PUBLISH
UID:e9f08bd8-ea14-4bba-8050-330162c8df65
X-WR-CALDESC:Training occurs at the CASA for Lancaster County Office - sout
 hwest corner of 12th & H Streets. Parking is available in the lot behind (
 south) the building - enter from the alley. Enter the building through the
  west door\, follow the hallway to the stairs and go to the 3rd floor.
X-WR-RELCALID:3b57c73d6c9d6122df1f797e3a7950b7
X-WR-TIMEZONE:America/Chicago
BEGIN:VTIMEZONE
TZID:America/Chicago
BEGIN:STANDARD
TZNAME:CST
DTSTART:20221106T020000
TZOFFSETFROM:-0500
TZOFFSETTO:-0600
RDATE:20231105T020000
END:STANDARD
BEGIN:DAYLIGHT
TZNAME:CDT
DTSTART:20230312T020000
TZOFFSETFROM:-0600
TZOFFSETTO:-0500
RDATE:20240310T020000
END:DAYLIGHT
END:VTIMEZONE
BEGIN:VEVENT
UID:49d606d6-16f4-4a05-a2c3-781d80da4f13
DTSTAMP:20260423T041253Z
DESCRIPTION:Training occurs at the CASA for Lancaster County Office - south
 west corner of 12th & H Streets. Parking is available in the lot behind (s
 outh) the building - enter from the alley. Enter the building through the 
 west door\, follow the hallway to the stairs and go to the 3rd floor.
DTSTART;TZID=America/Chicago:20230328T180000
DTEND;TZID=America/Chicago:20230328T210000
LOCATION:1141 H Street\, Suite C\, 3rd Floor\, Suite C\, 3rd Floor\, Lincol
 n\, NE 68508 US
SUMMARY:New CASA Volunteer Training
END:VEVENT
END:VCALENDAR
