BEGIN:VCALENDAR
VERSION:2.0
PRODID:-//www.casa4lancaster.org//NONSGML kigkonsult.se iCalcreator 2.30.10
 //
CALSCALE:GREGORIAN
METHOD:PUBLISH
UID:9a28dfda-8881-4d7b-a4e6-1a526c1bf2e4
X-WR-CALDESC:
X-WR-RELCALID:28963b083130d2e95c7e7a9fcdf2fbfb
X-WR-TIMEZONE:America/Chicago
BEGIN:VTIMEZONE
TZID:America/Chicago
BEGIN:STANDARD
TZNAME:CST
DTSTART:20221106T020000
TZOFFSETFROM:-0500
TZOFFSETTO:-0600
RDATE:20231105T020000
RDATE:20241103T020000
END:STANDARD
BEGIN:DAYLIGHT
TZNAME:CDT
DTSTART:20230312T020000
TZOFFSETFROM:-0600
TZOFFSETTO:-0500
RDATE:20240310T020000
END:DAYLIGHT
END:VTIMEZONE
BEGIN:VEVENT
UID:9c3de615-88b1-4a56-b155-c6b797ef5283
DTSTAMP:20260423T020137Z
DESCRIPTION:
DTSTART;TZID=America/Chicago:20230530T180000
DTEND;TZID=America/Chicago:20230530T210000
LOCATION:1141 H Street\, Suite C\, 3rd Floor\, Lincoln\, NE 68508 US
SUMMARY:New CASA Volunteer Training
END:VEVENT
END:VCALENDAR
