BEGIN:VCALENDAR
VERSION:2.0
PRODID:-//www.casa4lancaster.org//NONSGML kigkonsult.se iCalcreator 2.30.10
 //
CALSCALE:GREGORIAN
METHOD:PUBLISH
UID:9ece286c-3363-4136-9c8f-2c8b8910a0ed
X-WR-CALDESC:
X-WR-RELCALID:32e36136593be1e49e0b4c47646de606
X-WR-TIMEZONE:America/Chicago
BEGIN:VTIMEZONE
TZID:America/Chicago
BEGIN:STANDARD
TZNAME:CST
DTSTART:20221106T020000
TZOFFSETFROM:-0500
TZOFFSETTO:-0600
RDATE:20231105T020000
RDATE:20241103T020000
END:STANDARD
BEGIN:DAYLIGHT
TZNAME:CDT
DTSTART:20230312T020000
TZOFFSETFROM:-0600
TZOFFSETTO:-0500
RDATE:20240310T020000
END:DAYLIGHT
END:VTIMEZONE
BEGIN:VEVENT
UID:4a5c98e5-6a37-4470-b075-03350b6c8e92
DTSTAMP:20260423T002748Z
DESCRIPTION:
DTSTART;TZID=America/Chicago:20230613T180000
DTEND;TZID=America/Chicago:20230613T210000
LOCATION:1141 H Street\, Suite C\, 3rd Floor\, Lincoln\, NE 68508 US
SUMMARY:New CASA Volunteer Training
END:VEVENT
END:VCALENDAR
