BEGIN:VCALENDAR
VERSION:2.0
PRODID:-//www.casa4lancaster.org//NONSGML kigkonsult.se iCalcreator 2.30.10
 //
CALSCALE:GREGORIAN
METHOD:PUBLISH
UID:336b45a9-1068-420b-82ab-5de0d8661217
X-WR-CALDESC:
X-WR-RELCALID:655d7b80736b73cfbc89b84483b94fb1
X-WR-TIMEZONE:America/Chicago
BEGIN:VTIMEZONE
TZID:America/Chicago
BEGIN:STANDARD
TZNAME:CST
DTSTART:20221106T020000
TZOFFSETFROM:-0500
TZOFFSETTO:-0600
RDATE:20231105T020000
RDATE:20241103T020000
END:STANDARD
BEGIN:DAYLIGHT
TZNAME:CDT
DTSTART:20230312T020000
TZOFFSETFROM:-0600
TZOFFSETTO:-0500
RDATE:20240310T020000
END:DAYLIGHT
END:VTIMEZONE
BEGIN:VEVENT
UID:e952a2a3-3b7c-4061-be8e-9ebba64b2c77
DTSTAMP:20260423T003347Z
DESCRIPTION:
DTSTART;TZID=America/Chicago:20230627T180000
DTEND;TZID=America/Chicago:20230627T210000
LOCATION:1141 H Street\, Suite C\, 3rd Floor\, Lincoln\, NE 68508 US
SUMMARY:New CASA Volunteer Training
END:VEVENT
END:VCALENDAR
