BEGIN:VCALENDAR
VERSION:2.0
PRODID:-//www.casa4lancaster.org//NONSGML kigkonsult.se iCalcreator 2.30.10
 //
CALSCALE:GREGORIAN
METHOD:PUBLISH
UID:4f26a420-876d-4453-8d1a-467e3d00976e
X-WR-CALDESC:
X-WR-RELCALID:a9cc344208890cce93f55eac368e3a2a
X-WR-TIMEZONE:America/Chicago
BEGIN:VTIMEZONE
TZID:America/Chicago
BEGIN:STANDARD
TZNAME:CST
DTSTART:20221106T020000
TZOFFSETFROM:-0500
TZOFFSETTO:-0600
RDATE:20231105T020000
RDATE:20241103T020000
END:STANDARD
BEGIN:DAYLIGHT
TZNAME:CDT
DTSTART:20230312T020000
TZOFFSETFROM:-0600
TZOFFSETTO:-0500
RDATE:20240310T020000
END:DAYLIGHT
END:VTIMEZONE
BEGIN:VEVENT
UID:99ed9f65-40a9-4523-bb5a-d01c59f15ff6
DTSTAMP:20260422T231421Z
DESCRIPTION:
DTSTART;TZID=America/Chicago:20230705T180000
DTEND;TZID=America/Chicago:20230705T210000
LOCATION:1141 H Street\, Suite C\, 3rd Floor\, Lincoln\, NE 68508 US
SUMMARY:New CASA Volunteer Training
END:VEVENT
END:VCALENDAR
