BEGIN:VCALENDAR
VERSION:2.0
PRODID:-//www.casa4lancaster.org//NONSGML kigkonsult.se iCalcreator 2.30.10
 //
CALSCALE:GREGORIAN
METHOD:PUBLISH
UID:761e5d99-f9a1-4bb2-8467-f6ceff692747
X-WR-CALDESC:
X-WR-RELCALID:f32c9335df5408ca7bded5f8f0c4d2b0
X-WR-TIMEZONE:America/Chicago
BEGIN:VTIMEZONE
TZID:America/Chicago
BEGIN:STANDARD
TZNAME:CST
DTSTART:20221106T020000
TZOFFSETFROM:-0500
TZOFFSETTO:-0600
RDATE:20231105T020000
RDATE:20241103T020000
END:STANDARD
BEGIN:DAYLIGHT
TZNAME:CDT
DTSTART:20230312T020000
TZOFFSETFROM:-0600
TZOFFSETTO:-0500
RDATE:20240310T020000
END:DAYLIGHT
END:VTIMEZONE
BEGIN:VEVENT
UID:53d60c30-9c6c-4a53-9dfc-ce371eed51fa
DTSTAMP:20260422T215337Z
DESCRIPTION:
DTSTART;TZID=America/Chicago:20230815T180000
DTEND;TZID=America/Chicago:20230815T210000
LOCATION:1141 H Street\, Suite C\, 3rd Floor\, Lincoln\, NE 68508 US
SUMMARY:New CASA Volunteer Training
END:VEVENT
END:VCALENDAR
