BEGIN:VCALENDAR
VERSION:2.0
PRODID:-//www.casa4lancaster.org//NONSGML kigkonsult.se iCalcreator 2.30.10
 //
CALSCALE:GREGORIAN
METHOD:PUBLISH
UID:40aed259-9fb6-4c33-9b76-67a9990756b7
X-WR-CALDESC:Breakfast fundraiser.
X-WR-RELCALID:89498f9f69206a67fc6ba9b469f51447
X-WR-TIMEZONE:America/Chicago
BEGIN:VTIMEZONE
TZID:America/Chicago
BEGIN:STANDARD
TZNAME:CST
DTSTART:20231105T020000
TZOFFSETFROM:-0500
TZOFFSETTO:-0600
RDATE:20241103T020000
END:STANDARD
BEGIN:DAYLIGHT
TZNAME:CDT
DTSTART:20230312T020000
TZOFFSETFROM:-0600
TZOFFSETTO:-0500
RDATE:20240310T020000
RDATE:20250309T020000
END:DAYLIGHT
END:VTIMEZONE
BEGIN:VEVENT
UID:5db75592-e1f3-4b59-9d4c-78ffcc5ef10d
DTSTAMP:20260422T181004Z
DESCRIPTION:Breakfast fundraiser.
DTSTART;TZID=America/Chicago:20231116T080000
DTEND;TZID=America/Chicago:20231116T090000
LOCATION:Country Club of Lincoln\, 3200 S. 24th Street
SUMMARY:CASA Heroes Breakfast 2023
END:VEVENT
END:VCALENDAR
