BEGIN:VCALENDAR
VERSION:2.0
PRODID:-//www.casa4lancaster.org//NONSGML kigkonsult.se iCalcreator 2.30.10
 //
CALSCALE:GREGORIAN
METHOD:PUBLISH
UID:db2fac38-b118-4518-97cd-53bb2382e171
X-WR-CALDESC:New Volunteer Training Tuesdays 6:00 - 9:00 PM\; January 23 th
 rough February 27\, 2024 at the CASA Office\, 1141 H Street\, 3rd Floor\, 
 Lincoln\, Nebraska.
X-WR-RELCALID:4ee9e51be45eb2c724f5fa42c1b76b69
X-WR-TIMEZONE:America/Chicago
BEGIN:VTIMEZONE
TZID:America/Chicago
BEGIN:STANDARD
TZNAME:CST
DTSTART:20231105T020000
TZOFFSETFROM:-0500
TZOFFSETTO:-0600
RDATE:20241103T020000
END:STANDARD
BEGIN:DAYLIGHT
TZNAME:CDT
DTSTART:20230312T020000
TZOFFSETFROM:-0600
TZOFFSETTO:-0500
RDATE:20240310T020000
RDATE:20250309T020000
END:DAYLIGHT
END:VTIMEZONE
BEGIN:VEVENT
UID:39f75952-7569-403c-9b8b-6cc63b1551fa
DTSTAMP:20260422T152513Z
DESCRIPTION:New Volunteer Training Tuesdays 6:00 - 9:00 PM\; January 23 thr
 ough February 27\, 2024 at the CASA Office\, 1141 H Street\, 3rd Floor\, L
 incoln\, Nebraska.
DTSTART;TZID=America/Chicago:20240123T180000
DTEND;TZID=America/Chicago:20240123T210000
LOCATION:CASA for Lancaster County Office
SUMMARY:New CASA Volunteer Training
END:VEVENT
END:VCALENDAR
