BEGIN:VCALENDAR
VERSION:2.0
PRODID:-//www.casa4lancaster.org//NONSGML kigkonsult.se iCalcreator 2.30.10
 //
CALSCALE:GREGORIAN
METHOD:PUBLISH
UID:50360494-f287-4d06-b34c-068c3addaaf3
X-WR-CALDESC:New Volunteer Training Tuesdays 6:00 - 9:00 PM\; January 23 th
 rough February 27\, 2024 at the CASA Office\, 1141 H Street\, 3rd Floor\, 
 Lincoln\, Nebraska.
X-WR-RELCALID:794e50ab837b9b1edc95521f732a3175
X-WR-TIMEZONE:America/Chicago
BEGIN:VTIMEZONE
TZID:America/Chicago
BEGIN:STANDARD
TZNAME:CST
DTSTART:20231105T020000
TZOFFSETFROM:-0500
TZOFFSETTO:-0600
RDATE:20241103T020000
END:STANDARD
BEGIN:DAYLIGHT
TZNAME:CDT
DTSTART:20230312T020000
TZOFFSETFROM:-0600
TZOFFSETTO:-0500
RDATE:20240310T020000
RDATE:20250309T020000
END:DAYLIGHT
END:VTIMEZONE
BEGIN:VEVENT
UID:faf92695-308a-4efc-9545-2aa29eab672e
DTSTAMP:20260422T134908Z
DESCRIPTION:New Volunteer Training Tuesdays 6:00 - 9:00 PM\; January 23 thr
 ough February 27\, 2024 at the CASA Office\, 1141 H Street\, 3rd Floor\, L
 incoln\, Nebraska.
DTSTART;TZID=America/Chicago:20240227T180000
DTEND;TZID=America/Chicago:20240227T210000
LOCATION:CASA for Lancaster County Office
SUMMARY:New CASA Volunteer Training
END:VEVENT
END:VCALENDAR
