BEGIN:VCALENDAR
VERSION:2.0
PRODID:-//www.casa4lancaster.org//NONSGML kigkonsult.se iCalcreator 2.30.10
 //
CALSCALE:GREGORIAN
METHOD:PUBLISH
UID:6cc3697f-9268-417c-90a8-5c6740bee7bb
X-WR-CALDESC:
X-WR-RELCALID:bc134cb05d599cc3eba3b9d98d139b6d
X-WR-TIMEZONE:America/Chicago
BEGIN:VTIMEZONE
TZID:America/Chicago
BEGIN:STANDARD
TZNAME:CST
DTSTART:20231105T020000
TZOFFSETFROM:-0500
TZOFFSETTO:-0600
RDATE:20241103T020000
END:STANDARD
BEGIN:DAYLIGHT
TZNAME:CDT
DTSTART:20240310T020000
TZOFFSETFROM:-0600
TZOFFSETTO:-0500
RDATE:20250309T020000
END:DAYLIGHT
END:VTIMEZONE
BEGIN:VEVENT
UID:0f6200aa-01de-46f7-9273-93d7d8a8eb98
DTSTAMP:20260422T112343Z
DESCRIPTION:
DTSTART;TZID=America/Chicago:20240409T180000
DTEND;TZID=America/Chicago:20240409T210000
LOCATION:CASA for Lancaster County Office\, 1141 H St. 3rd Floor
SUMMARY:New CASA Volunteer Training
END:VEVENT
END:VCALENDAR
