BEGIN:VCALENDAR
VERSION:2.0
PRODID:-//www.casa4lancaster.org//NONSGML kigkonsult.se iCalcreator 2.30.10
 //
CALSCALE:GREGORIAN
METHOD:PUBLISH
UID:b1ec4c96-1377-4a6a-96e2-b711cafa2076
X-WR-CALDESC:
X-WR-RELCALID:9bf7825b259ce6c1dd50026b8d195882
X-WR-TIMEZONE:America/Chicago
BEGIN:VTIMEZONE
TZID:America/Chicago
BEGIN:STANDARD
TZNAME:CST
DTSTART:20231105T020000
TZOFFSETFROM:-0500
TZOFFSETTO:-0600
RDATE:20241103T020000
END:STANDARD
BEGIN:DAYLIGHT
TZNAME:CDT
DTSTART:20240310T020000
TZOFFSETFROM:-0600
TZOFFSETTO:-0500
RDATE:20250309T020000
END:DAYLIGHT
END:VTIMEZONE
BEGIN:VEVENT
UID:c3f89736-98f5-4842-a637-bc6419faf0b5
DTSTAMP:20260422T112627Z
DESCRIPTION:
DTSTART;TZID=America/Chicago:20240416T180000
DTEND;TZID=America/Chicago:20240416T210000
LOCATION:CASA for Lancaster County Office\, 1141 H St. 3rd Floor
SUMMARY:New CASA Volunteer Training
END:VEVENT
END:VCALENDAR
