BEGIN:VCALENDAR
VERSION:2.0
PRODID:-//www.casa4lancaster.org//NONSGML kigkonsult.se iCalcreator 2.30.10
 //
CALSCALE:GREGORIAN
METHOD:PUBLISH
UID:fe7bb5e5-c5f2-4f3e-9925-03c6636da2b7
X-WR-CALDESC:
X-WR-RELCALID:aa2f0662b50b28716e4897f59e586c22
X-WR-TIMEZONE:America/Chicago
BEGIN:VTIMEZONE
TZID:America/Chicago
BEGIN:STANDARD
TZNAME:CST
DTSTART:20231105T020000
TZOFFSETFROM:-0500
TZOFFSETTO:-0600
RDATE:20241103T020000
END:STANDARD
BEGIN:DAYLIGHT
TZNAME:CDT
DTSTART:20240310T020000
TZOFFSETFROM:-0600
TZOFFSETTO:-0500
RDATE:20250309T020000
END:DAYLIGHT
END:VTIMEZONE
BEGIN:VEVENT
UID:73ab02bf-997f-4db6-b783-993988f7c2b0
DTSTAMP:20260422T111326Z
DESCRIPTION:
DTSTART;TZID=America/Chicago:20240423T180000
DTEND;TZID=America/Chicago:20240423T210000
LOCATION:CASA for Lancaster County Office\, 1141 H St. 3rd Floor
SUMMARY:New CASA Volunteer Training
END:VEVENT
END:VCALENDAR
