BEGIN:VCALENDAR
VERSION:2.0
PRODID:-//www.casa4lancaster.org//NONSGML kigkonsult.se iCalcreator 2.30.10
 //
CALSCALE:GREGORIAN
METHOD:PUBLISH
UID:1c8fb25d-d344-47be-a245-3ea3ae3aa541
X-WR-CALDESC:
X-WR-RELCALID:e58c823022aa643778cd1ce9f2f129a8
X-WR-TIMEZONE:America/Chicago
BEGIN:VTIMEZONE
TZID:America/Chicago
BEGIN:STANDARD
TZNAME:CST
DTSTART:20231105T020000
TZOFFSETFROM:-0500
TZOFFSETTO:-0600
RDATE:20241103T020000
RDATE:20251102T020000
END:STANDARD
BEGIN:DAYLIGHT
TZNAME:CDT
DTSTART:20240310T020000
TZOFFSETFROM:-0600
TZOFFSETTO:-0500
RDATE:20250309T020000
END:DAYLIGHT
END:VTIMEZONE
BEGIN:VEVENT
UID:2920ab30-a8b0-433c-bc42-2c69766627b3
DTSTAMP:20260422T082507Z
DESCRIPTION:
DTSTART;TZID=America/Chicago:20240611T180000
DTEND;TZID=America/Chicago:20240611T210000
LOCATION:CASA for Lancaster County Office\, 1141 H St. 3rd Floor
SUMMARY:New CASA Volunteer Training
END:VEVENT
END:VCALENDAR
