BEGIN:VCALENDAR
VERSION:2.0
PRODID:-//www.casa4lancaster.org//NONSGML kigkonsult.se iCalcreator 2.30.10
 //
CALSCALE:GREGORIAN
METHOD:PUBLISH
UID:1b610842-2758-4493-a40d-ae7a19f7ae4d
X-WR-CALDESC:Hillcrest Country Club
X-WR-RELCALID:06a519ed6979d53c1ce2343bffcb1641
X-WR-TIMEZONE:America/Chicago
BEGIN:VTIMEZONE
TZID:America/Chicago
BEGIN:STANDARD
TZNAME:CST
DTSTART:20231105T020000
TZOFFSETFROM:-0500
TZOFFSETTO:-0600
RDATE:20241103T020000
RDATE:20251102T020000
END:STANDARD
BEGIN:DAYLIGHT
TZNAME:CDT
DTSTART:20240310T020000
TZOFFSETFROM:-0600
TZOFFSETTO:-0500
RDATE:20250309T020000
RDATE:20260308T020000
END:DAYLIGHT
END:VTIMEZONE
BEGIN:VEVENT
UID:34424ae2-50e2-4b5e-8543-3fce607a3740
DTSTAMP:20260422T030809Z
DESCRIPTION:Hillcrest Country Club
DTSTART;TZID=America/Chicago:20241024T173000
DTEND;TZID=America/Chicago:20241024T200000
LOCATION:9401 East 'O' Street\, Lincoln\, NE 68520 US
SUMMARY:CASA for Lancaster County 25th Anniversary Event
END:VEVENT
END:VCALENDAR
