BEGIN:VCALENDAR
VERSION:2.0
PRODID:-//www.casa4lancaster.org//NONSGML kigkonsult.se iCalcreator 2.30.10
 //
CALSCALE:GREGORIAN
METHOD:PUBLISH
UID:8320e8fa-df5d-4101-9d04-becbc36ad376
X-WR-CALDESC:Please park in lot behind (south) of the building. Enter throu
 gh west door (by the concrete steps and ramp - not the fire escape). We ar
 e on the 3rd Floor
X-WR-RELCALID:8dfb1ca50269675c99850e6300088852
X-WR-TIMEZONE:America/Chicago
BEGIN:VTIMEZONE
TZID:America/Chicago
BEGIN:STANDARD
TZNAME:CST
DTSTART:20241103T020000
TZOFFSETFROM:-0500
TZOFFSETTO:-0600
RDATE:20251102T020000
END:STANDARD
BEGIN:DAYLIGHT
TZNAME:CDT
DTSTART:20240310T020000
TZOFFSETFROM:-0600
TZOFFSETTO:-0500
RDATE:20250309T020000
RDATE:20260308T020000
END:DAYLIGHT
END:VTIMEZONE
BEGIN:VEVENT
UID:be1f713b-ba45-41bb-98ff-30c965c6e86d
DTSTAMP:20260421T215741Z
DESCRIPTION:Please park in lot behind (south) of the building. Enter throug
 h west door (by the concrete steps and ramp - not the fire escape). We are
  on the 3rd Floor
DTSTART;TZID=America/Chicago:20250218T180000
DTEND;TZID=America/Chicago:20250218T210000
LOCATION:1141 H ST STE C\, LINCOLN\, NE 68508-3256 US
SUMMARY:New CASA Volunteer Training
END:VEVENT
END:VCALENDAR
