BEGIN:VCALENDAR
VERSION:2.0
PRODID:-//www.casa4lancaster.org//NONSGML kigkonsult.se iCalcreator 2.30.10
 //
CALSCALE:GREGORIAN
METHOD:PUBLISH
UID:955e5366-6cac-4ba3-949d-8b1f0c8969e9
X-WR-CALDESC:In-class sessions - training for new CASA volunteer advocates
X-WR-RELCALID:b90ff5b4487af6e8f52faf735268c1fb
X-WR-TIMEZONE:America/Chicago
BEGIN:VTIMEZONE
TZID:America/Chicago
BEGIN:STANDARD
TZNAME:CST
DTSTART:20241103T020000
TZOFFSETFROM:-0500
TZOFFSETTO:-0600
RDATE:20251102T020000
END:STANDARD
BEGIN:DAYLIGHT
TZNAME:CDT
DTSTART:20250309T020000
TZOFFSETFROM:-0600
TZOFFSETTO:-0500
RDATE:20260308T020000
END:DAYLIGHT
END:VTIMEZONE
BEGIN:VEVENT
UID:128a5b78-b504-42ae-86ee-7bd2eeb0ff64
DTSTAMP:20260421T190800Z
DESCRIPTION:In-class sessions - training for new CASA volunteer advocates
DTSTART;TZID=America/Chicago:20250415T180000
DTEND;TZID=America/Chicago:20250415T210000
LOCATION:1141 H Street\, Suite C\, 3rd Floor\, Lincoln\, AL 68508 US
SUMMARY:New CASA Volunteer Training
END:VEVENT
END:VCALENDAR
