BEGIN:VCALENDAR
VERSION:2.0
PRODID:-//www.casa4lancaster.org//NONSGML kigkonsult.se iCalcreator 2.30.10
 //
CALSCALE:GREGORIAN
METHOD:PUBLISH
UID:7500d814-756d-413b-97ad-a94422623606
X-WR-CALDESC:In-class sessions - training for new CASA volunteer advocates
X-WR-RELCALID:fe567dedf1602f52f86dc3f2d72484f5
X-WR-TIMEZONE:America/Chicago
BEGIN:VTIMEZONE
TZID:America/Chicago
BEGIN:STANDARD
TZNAME:CST
DTSTART:20241103T020000
TZOFFSETFROM:-0500
TZOFFSETTO:-0600
RDATE:20251102T020000
END:STANDARD
BEGIN:DAYLIGHT
TZNAME:CDT
DTSTART:20250309T020000
TZOFFSETFROM:-0600
TZOFFSETTO:-0500
RDATE:20260308T020000
END:DAYLIGHT
END:VTIMEZONE
BEGIN:VEVENT
UID:de2614e4-cb18-41a0-8f23-e4d2fe4b8d46
DTSTAMP:20260421T190841Z
DESCRIPTION:In-class sessions - training for new CASA volunteer advocates
DTSTART;TZID=America/Chicago:20250429T180000
DTEND;TZID=America/Chicago:20250429T210000
LOCATION:1141 H Street\, Suite C\, 3rd Floor\, Lincoln\, AL 68508 US
SUMMARY:New CASA Volunteer Training
END:VEVENT
END:VCALENDAR
