BEGIN:VCALENDAR
VERSION:2.0
PRODID:-//www.casa4lancaster.org//NONSGML kigkonsult.se iCalcreator 2.30.10
 //
CALSCALE:GREGORIAN
METHOD:PUBLISH
UID:3eb6f23d-e67b-4634-bd51-20787aacbe3b
X-WR-CALDESC:
X-WR-RELCALID:17f6f2c92052feaf84ddc5b340a59fbc
X-WR-TIMEZONE:America/Chicago
BEGIN:VTIMEZONE
TZID:America/Chicago
BEGIN:STANDARD
TZNAME:CST
DTSTART:20241103T020000
TZOFFSETFROM:-0500
TZOFFSETTO:-0600
RDATE:20251102T020000
RDATE:20261101T020000
END:STANDARD
BEGIN:DAYLIGHT
TZNAME:CDT
DTSTART:20250309T020000
TZOFFSETFROM:-0600
TZOFFSETTO:-0500
RDATE:20260308T020000
END:DAYLIGHT
END:VTIMEZONE
BEGIN:VEVENT
UID:d4ffd4a7-a53b-4ed5-a03c-d1a5d3601fb9
DTSTAMP:20260421T133939Z
DESCRIPTION:
DTSTART;TZID=America/Chicago:20250826T180000
DTEND;TZID=America/Chicago:20250826T210000
LOCATION:1141 H Street\, Suite C\, 3rd Floor\, Lincoln\, AL 68508 US
SUMMARY:New CASA Volunteer Training
END:VEVENT
END:VCALENDAR
