BEGIN:VCALENDAR
VERSION:2.0
PRODID:-//www.casa4lancaster.org//NONSGML kigkonsult.se iCalcreator 2.30.10
 //
CALSCALE:GREGORIAN
METHOD:PUBLISH
UID:cf086a3b-61a9-4829-a35b-c733ee4372b9
X-WR-CALDESC:
X-WR-RELCALID:c6dadc43f1f8d27e567377cc1d1c8690
X-WR-TIMEZONE:America/Chicago
BEGIN:VTIMEZONE
TZID:America/Chicago
BEGIN:STANDARD
TZNAME:CST
DTSTART:20241103T020000
TZOFFSETFROM:-0500
TZOFFSETTO:-0600
RDATE:20251102T020000
RDATE:20261101T020000
END:STANDARD
BEGIN:DAYLIGHT
TZNAME:CDT
DTSTART:20250309T020000
TZOFFSETFROM:-0600
TZOFFSETTO:-0500
RDATE:20260308T020000
END:DAYLIGHT
END:VTIMEZONE
BEGIN:VEVENT
UID:bfe24d7d-83da-4a60-8522-f887396056de
DTSTAMP:20260421T121532Z
DESCRIPTION:
DTSTART;TZID=America/Chicago:20250902T180000
DTEND;TZID=America/Chicago:20250902T210000
LOCATION:1141 H Street\, Suite C\, 3rd Floor\, Lincoln\, AL 68508 US
SUMMARY:New CASA Volunteer Training
END:VEVENT
END:VCALENDAR
