BEGIN:VCALENDAR
VERSION:2.0
PRODID:-//www.casa4lancaster.org//NONSGML kigkonsult.se iCalcreator 2.30.10
 //
CALSCALE:GREGORIAN
METHOD:PUBLISH
UID:b4f77601-dec1-48c7-91dc-4fda27fbafd1
X-WR-CALDESC:
X-WR-RELCALID:60cbd73656202ad7e9ac3ef540bb0f83
X-WR-TIMEZONE:America/Chicago
BEGIN:VTIMEZONE
TZID:America/Chicago
BEGIN:STANDARD
TZNAME:CST
DTSTART:20251102T020000
TZOFFSETFROM:-0500
TZOFFSETTO:-0600
RDATE:20261101T020000
END:STANDARD
BEGIN:DAYLIGHT
TZNAME:CDT
DTSTART:20250309T020000
TZOFFSETFROM:-0600
TZOFFSETTO:-0500
RDATE:20260308T020000
RDATE:20270314T020000
END:DAYLIGHT
END:VTIMEZONE
BEGIN:VEVENT
UID:838f693b-7fa5-4879-9628-0002a85625d2
DTSTAMP:20260421T094212Z
DESCRIPTION:
DTSTART;TZID=America/Chicago:20251104T180000
DTEND;TZID=America/Chicago:20251104T210000
LOCATION:1141 H Street\, Suite C\, 3rd Floor\, Lincoln\, AL 68508 US
SUMMARY:New CASA Volunteer Training
END:VEVENT
END:VCALENDAR
