BEGIN:VCALENDAR
VERSION:2.0
PRODID:-//www.casa4lancaster.org//NONSGML kigkonsult.se iCalcreator 2.30.10
 //
CALSCALE:GREGORIAN
METHOD:PUBLISH
UID:c8867a67-e019-47f9-9608-fe62e2daae72
X-WR-CALDESC:
X-WR-RELCALID:84ae0a3df14efb3974c960b926c2e1b3
X-WR-TIMEZONE:America/Chicago
BEGIN:VTIMEZONE
TZID:America/Chicago
BEGIN:STANDARD
TZNAME:CST
DTSTART:20251102T020000
TZOFFSETFROM:-0500
TZOFFSETTO:-0600
RDATE:20261101T020000
END:STANDARD
BEGIN:DAYLIGHT
TZNAME:CDT
DTSTART:20250309T020000
TZOFFSETFROM:-0600
TZOFFSETTO:-0500
RDATE:20260308T020000
RDATE:20270314T020000
END:DAYLIGHT
END:VTIMEZONE
BEGIN:VEVENT
UID:bbc38e8f-05bc-430d-a5c7-71f31727f7e6
DTSTAMP:20260421T081249Z
DESCRIPTION:
DTSTART;TZID=America/Chicago:20251118T180000
DTEND;TZID=America/Chicago:20251118T210000
LOCATION:1141 H Street\, Suite C\, 3rd Floor\, Lincoln\, AL 68508 US
SUMMARY:New CASA Volunteer Training
END:VEVENT
END:VCALENDAR
